BEGIN:VCALENDAR
VERSION:2.0
PRODID:-//The Hideaway at Country Greens Golf Course - ECPv6.15.18//NONSGML v1.0//EN
CALSCALE:GREGORIAN
METHOD:PUBLISH
X-WR-CALNAME:The Hideaway at Country Greens Golf Course
X-ORIGINAL-URL:https://www.countrygreensgolf.com
X-WR-CALDESC:Events for The Hideaway at Country Greens Golf Course
REFRESH-INTERVAL;VALUE=DURATION:PT1H
X-Robots-Tag:noindex
X-PUBLISHED-TTL:PT1H
BEGIN:VTIMEZONE
TZID:UTC
BEGIN:STANDARD
TZOFFSETFROM:+0000
TZOFFSETTO:+0000
TZNAME:UTC
DTSTART:20240101T000000
END:STANDARD
END:VTIMEZONE
BEGIN:VEVENT
DTSTART;TZID=UTC:20251225T080000
DTEND;TZID=UTC:20251225T170000
DTSTAMP:20260419T221127
CREATED:20250606T084707Z
LAST-MODIFIED:20250606T084821Z
UID:10000025-1766649600-1766682000@www.countrygreensgolf.com
SUMMARY:Christmas
DESCRIPTION:Christmas
URL:https://www.countrygreensgolf.com/event/christmas/
END:VEVENT
BEGIN:VEVENT
DTSTART;TZID=UTC:20251127T080000
DTEND;TZID=UTC:20251127T170000
DTSTAMP:20260419T221127
CREATED:20250606T084641Z
LAST-MODIFIED:20250606T084643Z
UID:10000024-1764230400-1764262800@www.countrygreensgolf.com
SUMMARY:Thanksgiving Day
DESCRIPTION:Thanksgiving Day
URL:https://www.countrygreensgolf.com/event/thanksgiving-day/
END:VEVENT
BEGIN:VEVENT
DTSTART;TZID=UTC:20251111T080000
DTEND;TZID=UTC:20251111T170000
DTSTAMP:20260419T221127
CREATED:20250606T084601Z
LAST-MODIFIED:20250606T084614Z
UID:10000023-1762848000-1762880400@www.countrygreensgolf.com
SUMMARY:Veterans Day
DESCRIPTION:Veterans Day
URL:https://www.countrygreensgolf.com/event/veterans-day/
END:VEVENT
BEGIN:VEVENT
DTSTART;TZID=UTC:20251013T080000
DTEND;TZID=UTC:20251013T170000
DTSTAMP:20260419T221127
CREATED:20250606T084457Z
LAST-MODIFIED:20250606T084459Z
UID:10000022-1760342400-1760374800@www.countrygreensgolf.com
SUMMARY:Columbus Day
DESCRIPTION:Columbus Day
URL:https://www.countrygreensgolf.com/event/columbus-day/
END:VEVENT
BEGIN:VEVENT
DTSTART;TZID=UTC:20250901T080000
DTEND;TZID=UTC:20250901T235900
DTSTAMP:20260419T221127
CREATED:20250606T084420Z
LAST-MODIFIED:20250606T084422Z
UID:10000021-1756713600-1756771140@www.countrygreensgolf.com
SUMMARY:King and Queen of the Greens
DESCRIPTION:
URL:https://www.countrygreensgolf.com/event/king-and-queen-of-the-greens/
END:VEVENT
BEGIN:VEVENT
DTSTART;TZID=UTC:20250901T080000
DTEND;TZID=UTC:20250901T170000
DTSTAMP:20260419T221127
CREATED:20250606T084350Z
LAST-MODIFIED:20250606T084352Z
UID:10000020-1756713600-1756746000@www.countrygreensgolf.com
SUMMARY:Labor Day
DESCRIPTION:Labor Day
URL:https://www.countrygreensgolf.com/event/labor-day/
END:VEVENT
BEGIN:VEVENT
DTSTART;TZID=UTC:20250829T173000
DTEND;TZID=UTC:20250829T235900
DTSTAMP:20260419T221127
CREATED:20250606T084320Z
LAST-MODIFIED:20250606T084321Z
UID:10000019-1756488600-1756511940@www.countrygreensgolf.com
SUMMARY:2 Couple Scramble
DESCRIPTION:Shotgun
URL:https://www.countrygreensgolf.com/event/2-couple-scramble-3/
END:VEVENT
BEGIN:VEVENT
DTSTART;TZID=UTC:20250824T080000
DTEND;TZID=UTC:20250824T170000
DTSTAMP:20260419T221127
CREATED:20250606T084227Z
LAST-MODIFIED:20250606T084229Z
UID:10000018-1756022400-1756054800@www.countrygreensgolf.com
SUMMARY:Men’s Club Championship
DESCRIPTION:
URL:https://www.countrygreensgolf.com/event/mens-club-championship/
END:VEVENT
BEGIN:VEVENT
DTSTART;TZID=UTC:20250822T173000
DTEND;TZID=UTC:20250822T235900
DTSTAMP:20260419T221127
CREATED:20250606T084204Z
LAST-MODIFIED:20250606T084207Z
UID:10000017-1755883800-1755907140@www.countrygreensgolf.com
SUMMARY:Glow Ball Tourney
DESCRIPTION:Shotgun
URL:https://www.countrygreensgolf.com/event/glow-ball-tourney-2/
END:VEVENT
BEGIN:VEVENT
DTSTART;TZID=UTC:20250817T080000
DTEND;TZID=UTC:20250817T170000
DTSTAMP:20260419T221127
CREATED:20250606T084123Z
LAST-MODIFIED:20250606T084125Z
UID:10000016-1755417600-1755450000@www.countrygreensgolf.com
SUMMARY:Ladies Club Championship
DESCRIPTION:
URL:https://www.countrygreensgolf.com/event/ladies-club-championship/
END:VEVENT
BEGIN:VEVENT
DTSTART;TZID=UTC:20250810T130000
DTEND;TZID=UTC:20250810T235900
DTSTAMP:20260419T221127
CREATED:20250606T084037Z
LAST-MODIFIED:20250606T084039Z
UID:10000015-1754830800-1754870340@www.countrygreensgolf.com
SUMMARY:Parent/Child Tourney
DESCRIPTION:
URL:https://www.countrygreensgolf.com/event/parent-child-tourney/
END:VEVENT
BEGIN:VEVENT
DTSTART;TZID=UTC:20250802T100000
DTEND;TZID=UTC:20250802T235900
DTSTAMP:20260419T221127
CREATED:20250606T084001Z
LAST-MODIFIED:20250606T084003Z
UID:10000014-1754128800-1754179140@www.countrygreensgolf.com
SUMMARY:North Union Booster Club Tourney
DESCRIPTION:
URL:https://www.countrygreensgolf.com/event/north-union-booster-club-tourney/
END:VEVENT
BEGIN:VEVENT
DTSTART;TZID=UTC:20250730T100000
DTEND;TZID=UTC:20250730T235900
DTSTAMP:20260419T221127
CREATED:20250606T083927Z
LAST-MODIFIED:20250606T083929Z
UID:10000013-1753869600-1753919940@www.countrygreensgolf.com
SUMMARY:4-Lady Best Shot
DESCRIPTION:
URL:https://www.countrygreensgolf.com/event/4-lady-best-shot/
END:VEVENT
BEGIN:VEVENT
DTSTART;TZID=UTC:20250726T090000
DTEND;TZID=UTC:20250726T235900
DTSTAMP:20260419T221127
CREATED:20250606T083850Z
LAST-MODIFIED:20250606T083852Z
UID:10000012-1753520400-1753574340@www.countrygreensgolf.com
SUMMARY:Irmiter Classic
DESCRIPTION:
URL:https://www.countrygreensgolf.com/event/irmiter-classic/
END:VEVENT
BEGIN:VEVENT
DTSTART;TZID=UTC:20250725T173000
DTEND;TZID=UTC:20250725T235900
DTSTAMP:20260419T221127
CREATED:20250606T083826Z
LAST-MODIFIED:20250606T083828Z
UID:10000011-1753464600-1753487940@www.countrygreensgolf.com
SUMMARY:2 Couple Scramble
DESCRIPTION:Shotgun
URL:https://www.countrygreensgolf.com/event/2-couple-scramble-2/
END:VEVENT
BEGIN:VEVENT
DTSTART;TZID=UTC:20250719T100000
DTEND;TZID=UTC:20250719T235900
DTSTAMP:20260419T221127
CREATED:20250606T082941Z
LAST-MODIFIED:20250606T083726Z
UID:10000010-1752919200-1752969540@www.countrygreensgolf.com
SUMMARY:Happy Hoofers Tourney
DESCRIPTION:
URL:https://www.countrygreensgolf.com/event/happy-hoofers-tourney/
END:VEVENT
BEGIN:VEVENT
DTSTART;TZID=UTC:20250716T090000
DTEND;TZID=UTC:20250716T235900
DTSTAMP:20260419T221127
CREATED:20250606T082812Z
LAST-MODIFIED:20250606T083747Z
UID:10000009-1752656400-1752710340@www.countrygreensgolf.com
SUMMARY:Senior 4-man
DESCRIPTION:
URL:https://www.countrygreensgolf.com/event/senior-4-man/
END:VEVENT
BEGIN:VEVENT
DTSTART;TZID=UTC:20250712T100000
DTEND;TZID=UTC:20250712T235900
DTSTAMP:20260419T221127
CREATED:20250606T082657Z
LAST-MODIFIED:20250606T083734Z
UID:10000008-1752314400-1752364740@www.countrygreensgolf.com
SUMMARY:Armstrong FD Tourney
DESCRIPTION:
URL:https://www.countrygreensgolf.com/event/armstrong-fd-tourney/
END:VEVENT
BEGIN:VEVENT
DTSTART;TZID=UTC:20250705T100000
DTEND;TZID=UTC:20250705T235900
DTSTAMP:20260419T221127
CREATED:20250606T082633Z
LAST-MODIFIED:20250606T083741Z
UID:10000007-1751709600-1751759940@www.countrygreensgolf.com
SUMMARY:Red\, White and Blue Tourney
DESCRIPTION:10am NU 2020 Reunion 5pm
URL:https://www.countrygreensgolf.com/event/red-white-and-blue-tourney/
END:VEVENT
BEGIN:VEVENT
DTSTART;TZID=UTC:20250704T080000
DTEND;TZID=UTC:20250704T170000
DTSTAMP:20260419T221127
CREATED:20250606T082528Z
LAST-MODIFIED:20250606T082530Z
UID:10000006-1751616000-1751648400@www.countrygreensgolf.com
SUMMARY:Independence Day
DESCRIPTION:Independence Day
URL:https://www.countrygreensgolf.com/event/independence-day/
END:VEVENT
BEGIN:VEVENT
DTSTART;TZID=UTC:20250628T100000
DTEND;TZID=UTC:20250628T235900
DTSTAMP:20260419T221127
CREATED:20250606T082057Z
LAST-MODIFIED:20250606T082100Z
UID:10000005-1751104800-1751155140@www.countrygreensgolf.com
SUMMARY:ABC Fundraiser Tourney
DESCRIPTION:
URL:https://www.countrygreensgolf.com/event/abc-fundraiser-tourney/
END:VEVENT
BEGIN:VEVENT
DTSTART;TZID=UTC:20250627T173000
DTEND;TZID=UTC:20250627T235900
DTSTAMP:20260419T221127
CREATED:20250606T081833Z
LAST-MODIFIED:20250606T082031Z
UID:10000004-1751045400-1751068740@www.countrygreensgolf.com
SUMMARY:2 Couple Scramble
DESCRIPTION:5:30pm Shotgun
URL:https://www.countrygreensgolf.com/event/2-couple-scramble/
END:VEVENT
BEGIN:VEVENT
DTSTART;TZID=UTC:20250619T080000
DTEND;TZID=UTC:20250619T170000
DTSTAMP:20260419T221127
CREATED:20250606T081746Z
LAST-MODIFIED:20250606T081748Z
UID:10000003-1750320000-1750352400@www.countrygreensgolf.com
SUMMARY:Juneteenth
DESCRIPTION:Juneteenth
URL:https://www.countrygreensgolf.com/event/juneteenth/
END:VEVENT
BEGIN:VEVENT
DTSTART;TZID=UTC:20250614T210000
DTEND;TZID=UTC:20250614T235900
DTSTAMP:20260419T221127
CREATED:20250606T051956Z
LAST-MODIFIED:20250606T051958Z
UID:10000002-1749934800-1749945540@www.countrygreensgolf.com
SUMMARY:Pytleski Family Outing
DESCRIPTION:
URL:https://www.countrygreensgolf.com/event/pytleski-family-outing/
END:VEVENT
BEGIN:VEVENT
DTSTART;TZID=UTC:20250613T173000
DTEND;TZID=UTC:20250613T235900
DTSTAMP:20260419T221127
CREATED:20250606T051920Z
LAST-MODIFIED:20250606T051922Z
UID:10000001-1749835800-1749859140@www.countrygreensgolf.com
SUMMARY:Glow Ball Tourney
DESCRIPTION:5:30pm Shotgun
URL:https://www.countrygreensgolf.com/event/glow-ball-tourney/
END:VEVENT
END:VCALENDAR