BEGIN:VCALENDAR
VERSION:2.0
PRODID:-//The Hideaway at Country Greens Golf Course - ECPv6.15.18//NONSGML v1.0//EN
CALSCALE:GREGORIAN
METHOD:PUBLISH
X-WR-CALNAME:The Hideaway at Country Greens Golf Course
X-ORIGINAL-URL:https://www.countrygreensgolf.com
X-WR-CALDESC:Events for The Hideaway at Country Greens Golf Course
REFRESH-INTERVAL;VALUE=DURATION:PT1H
X-Robots-Tag:noindex
X-PUBLISHED-TTL:PT1H
BEGIN:VTIMEZONE
TZID:UTC
BEGIN:STANDARD
TZOFFSETFROM:+0000
TZOFFSETTO:+0000
TZNAME:UTC
DTSTART:20240101T000000
END:STANDARD
END:VTIMEZONE
BEGIN:VEVENT
DTSTART;TZID=UTC:20250613T173000
DTEND;TZID=UTC:20250613T235900
DTSTAMP:20260419T214910
CREATED:20250606T051920Z
LAST-MODIFIED:20250606T051922Z
UID:10000001-1749835800-1749859140@www.countrygreensgolf.com
SUMMARY:Glow Ball Tourney
DESCRIPTION:5:30pm Shotgun
URL:https://www.countrygreensgolf.com/event/glow-ball-tourney/
END:VEVENT
END:VCALENDAR